Workbook
Name Amount1: OFFSET(Lookups!$H$3,0,0,COUNT(Lookups!$H:$H),1)
Name Month: OFFSET(Lookups!$G$3,0,0,COUNT(Lookups!$G:$G),1)

Sheet DTA calc with dropdown
A4: Decreasing term calculator
B10: We’ve created this calculator to help you work out how much a plan could potentially pay out at each interest rate in the event of a client’s claim.
B12: Simply enter the amount of cover, plan term and interest below to see how much the plan could pay in the event of a claim.
B16: Enter Amount of Cover | E16: 200000
B17: Enter Length of Cover (years) | E17: 40
B18: Select Policy Interest Rate | E18: 0.07
B21: Amount of cover at 5 years | E21: =D121 -> 194231.55
B22: Amount of cover at 10 years | E22: =D181 -> 186142.92
B23: Amount of cover at 15 years | E23: =D241 -> 174801.01
B24: Amount of cover at 20 years | E24: =D301 -> 158897.33
B25: Amount of cover at 25 years | E25: =D361 -> 136597.11
B26: Amount of cover at 30 years | E26: =D421 -> 105327.64
B27: Amount of cover at 35 years | E27: =D481 -> 61481.42
B28: Amount of cover at 40 years | E28: =D541 -> 0.05
B29: Amount of cover at 45 years | E29: =D601
B30: Amount of cover at 50 years | E30: =D661
B48: Please note that this calculator is for new business only. For claim calculations on existing plans, please contact your usual L&G representative or find your BDM via our website - https://www.legalandgeneral.com/adviser/protection/contact-us/find-my-bdm/
B51: This calculator is for professional use and for illustrative purposes only, and should not be relied upon by any private individual or any other person.
B53: Full breakdown of claims examples for Decreasing Life Insurance products are issued with policy documents.
B54: Please consider the interest rate required, which would normally be the standard variable rate of the lender, NOT an introductory interest rate such as a discounted or fixed rate.
B58: Data Tables
B60: Month | C60: Year | D60: Amount of Cover
B61: 0 | C61: 0 | D61: =IF(B61>$E$17*12,"",ROUND($E$16 * (1 - (1 + Lookups!$D$8 / 12) ^ (-($E$17*12 - B61))) / (1 - (1 + Lookups!$D$8 / 12) ^ (-$E$17*12)) + 0.05, 2)) -> 200000.05
B62: 1 | C62: 0 | D62: =IF(B62>$E$17*12,"",ROUND($E$16 * (1 - (1 + Lookups!$D$8 / 12) ^ (-($E$17*12 - B62))) / (1 - (1 + Lookups!$D$8 / 12) ^ (-$E$17*12)) + 0.05, 2)) -> 199919.02
B63: 2 | C63: 0 | D63: =IF(B63>$E$17*12,"",ROUND($E$16 * (1 - (1 + Lookups!$D$8 / 12) ^ (-($E$17*12 - B63))) / (1 - (1 + Lookups!$D$8 / 12) ^ (-$E$17*12)) + 0.05, 2)) -> 199837.53
B64: 3 | C64: 0 | D64: =IF(B64>$E$17*12,"",ROUND($E$16 * (1 - (1 + Lookups!$D$8 / 12) ^ (-($E$17*12 - B64))) / (1 - (1 + Lookups!$D$8 / 12) ^ (-$E$17*12)) + 0.05, 2)) -> 199755.57
B65: 4 | C65: 0 | D65: =IF(B65>$E$17*12,"",ROUND($E$16 * (1 - (1 + Lookups!$D$8 / 12) ^ (-($E$17*12 - B65))) / (1 - (1 + Lookups!$D$8 / 12) ^ (-$E$17*12)) + 0.05, 2)) -> 199673.16
B66: 5 | C66: 0 | D66: =IF(B66>$E$17*12,"",ROUND($E$16 * (1 - (1 + Lookups!$D$8 / 12) ^ (-($E$17*12 - B66))) / (1 - (1 + Lookups!$D$8 / 12) ^ (-$E$17*12)) + 0.05, 2)) -> 199590.28
B67: 6 | C67: 0 | D67: =IF(B67>$E$17*12,"",ROUND($E$16 * (1 - (1 + Lookups!$D$8 / 12) ^ (-($E$17*12 - B67))) / (1 - (1 + Lookups!$D$8 / 12) ^ (-$E$17*12)) + 0.05, 2)) -> 199506.93
B68: 7 | C68: 0 | D68: =IF(B68>$E$17*12,"",ROUND($E$16 * (1 - (1 + Lookups!$D$8 / 12) ^ (-($E$17*12 - B68))) / (1 - (1 + Lookups!$D$8 / 12) ^ (-$E$17*12)) + 0.05, 2)) -> 199423.11
B69: 8 | C69: 0 | D69: =IF(B69>$E$17*12,"",ROUND($E$16 * (1 - (1 + Lookups!$D$8 / 12) ^ (-($E$17*12 - B69))) / (1 - (1 + Lookups!$D$8 / 12) ^ (-$E$17*12)) + 0.05, 2)) -> 199338.82
B70: 9 | C70: 0 | D70: =IF(B70>$E$17*12,"",ROUND($E$16 * (1 - (1 + Lookups!$D$8 / 12) ^ (-($E$17*12 - B70))) / (1 - (1 + Lookups!$D$8 / 12) ^ (-$E$17*12)) + 0.05, 2)) -> 199254.05
B71: 10 | C71: 0 | D71: =IF(B71>$E$17*12,"",ROUND($E$16 * (1 - (1 + Lookups!$D$8 / 12) ^ (-($E$17*12 - B71))) / (1 - (1 + Lookups!$D$8 / 12) ^ (-$E$17*12)) + 0.05, 2)) -> 199168.8
B72: 11 | C72: 0 | D72: =IF(B72>$E$17*12,"",ROUND($E$16 * (1 - (1 + Lookups!$D$8 / 12) ^ (-($E$17*12 - B72))) / (1 - (1 + Lookups!$D$8 / 12) ^ (-$E$17*12)) + 0.05, 2)) -> 199083.07
... B661: 600 | C661: 50 | D661: =IF(B661>$E$17*12,"",ROUND($E$16 * (1 - (1 + Lookups!$D$8 / 12) ^ (-($E$17*12 - B661))) / (1 - (1 + Lookups!$D$8 / 12) ^ (-$E$17*12)) + 0.05, 2))

Sheet Lookups
H2: ="Run Down at "&TEXT('DTA calc with dropdown'!E18,"0%")&" Interest Rate" -> Run Down at 7% Interest Rate
C3: Effective Interest Rate p.a | D3: Nominal Interest Rate Monthly p.a | F3: 0 | G3: =IF(H3="","",F3) -> 0 | H3: =OFFSET('DTA calc with dropdown'!$D$61,F3,0) -> 200000.05
C4: 0.05 | D4: =ROUND((((1+C4)^(1/12)-1)*12)*100,2)/100 -> 0.0489 | F4: 12 | G4: =IF(H4="","",F4) -> 12 | H4: =OFFSET('DTA calc with dropdown'!$D$61,F4,0) -> 198996.85
C5: 0.07 | D5: =ROUND((((1+C5)^(1/12)-1)*12)*100,2)/100 -> 0.0678 | F5: =F4+12 -> 24 | G5: =IF(H5="","",F5) -> 24 | H5: =OFFSET('DTA calc with dropdown'!$D$61,F5,0) -> 197923.49
C6: 0.08 | D6: =ROUND((((1+C6)^(1/12)-1)*12)*100,2)/100 -> 0.0772 | F6: =F5+12 -> 36 | G6: =IF(H6="","",F6) -> 36 | H6: =OFFSET('DTA calc with dropdown'!$D$61,F6,0) -> 196775.04
C7: 0.1 | D7: =ROUND((((1+C7)^(1/12)-1)*12)*100,2)/100 -> 0.0957 | F7: =F6+12 -> 48 | G7: =IF(H7="","",F7) -> 48 | H7: =OFFSET('DTA calc with dropdown'!$D$61,F7,0) -> 195546.27
D8: =VLOOKUP('DTA calc with dropdown'!E18,Lookups!C3:D7,2,0) -> 0.0678 | F8: =F7+12 -> 60 | G8: =IF(H8="","",F8) -> 60 | H8: =OFFSET('DTA calc with dropdown'!$D$61,F8,0) -> 194231.55
F9: =F8+12 -> 72 | G9: =IF(H9="","",F9) -> 72 | H9: =OFFSET('DTA calc with dropdown'!$D$61,F9,0) -> 192824.86
F10: =F9+12 -> 84 | G10: =IF(H10="","",F10) -> 84 | H10: =OFFSET('DTA calc with dropdown'!$D$61,F10,0) -> 191319.78
F11: =F10+12 -> 96 | G11: =IF(H11="","",F11) -> 96 | H11: =OFFSET('DTA calc with dropdown'!$D$61,F11,0) -> 189709.43
F12: =F11+12 -> 108 | G12: =IF(H12="","",F12) -> 108 | H12: =OFFSET('DTA calc with dropdown'!$D$61,F12,0) -> 187986.43
F13: =F12+12 -> 120 | G13: =IF(H13="","",F13) -> 120 | H13: =OFFSET('DTA calc with dropdown'!$D$61,F13,0) -> 186142.92
F14: =F13+12 -> 132 | G14: =IF(H14="","",F14) -> 132 | H14: =OFFSET('DTA calc with dropdown'!$D$61,F14,0) -> 184170.46
F15: =F14+12 -> 144 | G15: =IF(H15="","",F15) -> 144 | H15: =OFFSET('DTA calc with dropdown'!$D$61,F15,0) -> 182060.03
F16: =F15+12 -> 156 | G16: =IF(H16="","",F16) -> 156 | H16: =OFFSET('DTA calc with dropdown'!$D$61,F16,0) -> 179801.98
F17: =F16+12 -> 168 | G17: =IF(H17="","",F17) -> 168 | H17: =OFFSET('DTA calc with dropdown'!$D$61,F17,0) -> 177385.99
F18: =F17+12 -> 180 | G18: =IF(H18="","",F18) -> 180 | H18: =OFFSET('DTA calc with dropdown'!$D$61,F18,0) -> 174801.01
F19: =F18+12 -> 192 | G19: =IF(H19="","",F19) -> 192 | H19: =OFFSET('DTA calc with dropdown'!$D$61,F19,0) -> 172035.22
F20: =F19+12 -> 204 | G20: =IF(H20="","",F20) -> 204 | H20: =OFFSET('DTA calc with dropdown'!$D$61,F20,0) -> 169075.96
... F53: =F52+12 -> 600 | G53: =IF(H53="","",F53) | H53: =OFFSET('DTA calc with dropdown'!$D$61,F53,0)
